BEGIN:VCALENDAR
VERSION:2.0
PRODID:-//Hui Lima Kokua - ECPv6.15.13.1//NONSGML v1.0//EN
CALSCALE:GREGORIAN
METHOD:PUBLISH
X-WR-CALNAME:Hui Lima Kokua
X-ORIGINAL-URL:https://huilimakokua.com
X-WR-CALDESC:Events for Hui Lima Kokua
REFRESH-INTERVAL;VALUE=DURATION:PT1H
X-Robots-Tag:noindex
X-PUBLISHED-TTL:PT1H
BEGIN:VTIMEZONE
TZID:America/Los_Angeles
BEGIN:DAYLIGHT
TZOFFSETFROM:-0800
TZOFFSETTO:-0700
TZNAME:PDT
DTSTART:20240310T100000
END:DAYLIGHT
BEGIN:STANDARD
TZOFFSETFROM:-0700
TZOFFSETTO:-0800
TZNAME:PST
DTSTART:20241103T090000
END:STANDARD
BEGIN:DAYLIGHT
TZOFFSETFROM:-0800
TZOFFSETTO:-0700
TZNAME:PDT
DTSTART:20250309T100000
END:DAYLIGHT
BEGIN:STANDARD
TZOFFSETFROM:-0700
TZOFFSETTO:-0800
TZNAME:PST
DTSTART:20251102T090000
END:STANDARD
BEGIN:DAYLIGHT
TZOFFSETFROM:-0800
TZOFFSETTO:-0700
TZNAME:PDT
DTSTART:20260308T100000
END:DAYLIGHT
BEGIN:STANDARD
TZOFFSETFROM:-0700
TZOFFSETTO:-0800
TZNAME:PST
DTSTART:20261101T090000
END:STANDARD
END:VTIMEZONE
BEGIN:VEVENT
DTSTART;TZID=America/Los_Angeles:20250510T110000
DTEND;TZID=America/Los_Angeles:20250510T130000
DTSTAMP:20260423T171243
CREATED:20250506T002930Z
LAST-MODIFIED:20250506T181030Z
UID:894-1746874800-1746882000@huilimakokua.com
SUMMARY:Potluck; Program: SCAIR
DESCRIPTION:
URL:https://huilimakokua.com/calendar/potluck-program-tbd/
LOCATION:The Bonaventure\, 10949 Telegraph Road\, Ventura\, CA\, 93004\, United States
END:VEVENT
END:VCALENDAR