BEGIN:VCALENDAR
VERSION:2.0
PRODID:-//Hui Lima Kokua - ECPv6.15.13.1//NONSGML v1.0//EN
CALSCALE:GREGORIAN
METHOD:PUBLISH
X-WR-CALNAME:Hui Lima Kokua
X-ORIGINAL-URL:https://huilimakokua.com
X-WR-CALDESC:Events for Hui Lima Kokua
REFRESH-INTERVAL;VALUE=DURATION:PT1H
X-Robots-Tag:noindex
X-PUBLISHED-TTL:PT1H
BEGIN:VTIMEZONE
TZID:America/Los_Angeles
BEGIN:DAYLIGHT
TZOFFSETFROM:-0800
TZOFFSETTO:-0700
TZNAME:PDT
DTSTART:20230312T100000
END:DAYLIGHT
BEGIN:STANDARD
TZOFFSETFROM:-0700
TZOFFSETTO:-0800
TZNAME:PST
DTSTART:20231105T090000
END:STANDARD
BEGIN:DAYLIGHT
TZOFFSETFROM:-0800
TZOFFSETTO:-0700
TZNAME:PDT
DTSTART:20240310T100000
END:DAYLIGHT
BEGIN:STANDARD
TZOFFSETFROM:-0700
TZOFFSETTO:-0800
TZNAME:PST
DTSTART:20241103T090000
END:STANDARD
BEGIN:DAYLIGHT
TZOFFSETFROM:-0800
TZOFFSETTO:-0700
TZNAME:PDT
DTSTART:20250309T100000
END:DAYLIGHT
BEGIN:STANDARD
TZOFFSETFROM:-0700
TZOFFSETTO:-0800
TZNAME:PST
DTSTART:20251102T090000
END:STANDARD
END:VTIMEZONE
BEGIN:VTIMEZONE
TZID:UTC
BEGIN:STANDARD
TZOFFSETFROM:+0000
TZOFFSETTO:+0000
TZNAME:UTC
DTSTART:20190101T000000
END:STANDARD
END:VTIMEZONE
BEGIN:VTIMEZONE
TZID:America/Los_Angeles
BEGIN:DAYLIGHT
TZOFFSETFROM:-0800
TZOFFSETTO:-0700
TZNAME:PDT
DTSTART:20220313T100000
END:DAYLIGHT
BEGIN:STANDARD
TZOFFSETFROM:-0700
TZOFFSETTO:-0800
TZNAME:PST
DTSTART:20221106T090000
END:STANDARD
BEGIN:DAYLIGHT
TZOFFSETFROM:-0800
TZOFFSETTO:-0700
TZNAME:PDT
DTSTART:20230312T100000
END:DAYLIGHT
BEGIN:STANDARD
TZOFFSETFROM:-0700
TZOFFSETTO:-0800
TZNAME:PST
DTSTART:20231105T090000
END:STANDARD
BEGIN:DAYLIGHT
TZOFFSETFROM:-0800
TZOFFSETTO:-0700
TZNAME:PDT
DTSTART:20240310T100000
END:DAYLIGHT
BEGIN:STANDARD
TZOFFSETFROM:-0700
TZOFFSETTO:-0800
TZNAME:PST
DTSTART:20241103T090000
END:STANDARD
END:VTIMEZONE
BEGIN:VEVENT
DTSTART;TZID=America/Los_Angeles:20240608T110000
DTEND;TZID=America/Los_Angeles:20240608T133000
DTSTAMP:20260423T145836
CREATED:20240603T010936Z
LAST-MODIFIED:20240603T010936Z
UID:837-1717844400-1717853400@huilimakokua.com
SUMMARY:Potluck & Calligraphy Program
DESCRIPTION:
URL:https://huilimakokua.com/calendar/potluck-calligraphy-program/
END:VEVENT
BEGIN:VEVENT
DTSTART;TZID=America/Los_Angeles:20240511T110000
DTEND;TZID=America/Los_Angeles:20240511T130000
DTSTAMP:20260423T145836
CREATED:20240502T160717Z
LAST-MODIFIED:20240502T160717Z
UID:832-1715425200-1715432400@huilimakokua.com
SUMMARY:Learn about Bonaventure
DESCRIPTION:
URL:https://huilimakokua.com/calendar/learn-about-bonaventure/
LOCATION:The Bonaventure\, 10949 Telegraph Road\, Ventura\, CA\, 93004\, United States
END:VEVENT
BEGIN:VEVENT
DTSTART;TZID=America/Los_Angeles:20240413T110000
DTEND;TZID=America/Los_Angeles:20240413T130000
DTSTAMP:20260423T145836
CREATED:20240316T135400Z
LAST-MODIFIED:20240316T135400Z
UID:824-1713006000-1713013200@huilimakokua.com
SUMMARY:Potluck
DESCRIPTION:
URL:https://huilimakokua.com/calendar/potluck-12/
LOCATION:The Bonaventure\, 10949 Telegraph Road\, Ventura\, CA\, 93004\, United States
END:VEVENT
BEGIN:VEVENT
DTSTART;TZID=America/Los_Angeles:20240309T110000
DTEND;TZID=America/Los_Angeles:20240309T130000
DTSTAMP:20260423T145836
CREATED:20240211T222942Z
LAST-MODIFIED:20240211T222942Z
UID:817-1709982000-1709989200@huilimakokua.com
SUMMARY:Potluck
DESCRIPTION:
URL:https://huilimakokua.com/calendar/potluck-11/
LOCATION:The Bonaventure\, 10949 Telegraph Road\, Ventura\, CA\, 93004\, United States
END:VEVENT
BEGIN:VEVENT
DTSTART;TZID=UTC:20240210T110000
DTEND;TZID=UTC:20240210T130000
DTSTAMP:20260423T145836
CREATED:20240121T030421Z
LAST-MODIFIED:20240121T030421Z
UID:812-1707562800-1707570000@huilimakokua.com
SUMMARY:Potluck
DESCRIPTION:
URL:https://huilimakokua.com/calendar/potluck-10/
END:VEVENT
BEGIN:VEVENT
DTSTART;TZID=UTC:20240113T110000
DTEND;TZID=UTC:20240113T130000
DTSTAMP:20260423T145836
CREATED:20231221T063027Z
LAST-MODIFIED:20231221T063027Z
UID:808-1705143600-1705150800@huilimakokua.com
SUMMARY:Potluck & Bingo
DESCRIPTION:
URL:https://huilimakokua.com/calendar/potluck-bingo/
LOCATION:The Bonaventure\, 10949 Telegraph Road\, Ventura\, CA\, 93004\, United States
END:VEVENT
BEGIN:VEVENT
DTSTART;TZID=UTC:20231209T110000
DTEND;TZID=UTC:20231209T123000
DTSTAMP:20260423T145836
CREATED:20231117T104159Z
LAST-MODIFIED:20231117T104159Z
UID:796-1702119600-1702125000@huilimakokua.com
SUMMARY:Potluck
DESCRIPTION:
URL:https://huilimakokua.com/calendar/potluck-9/
LOCATION:The Bonaventure\, 10949 Telegraph Road\, Ventura\, CA\, 93004\, United States
END:VEVENT
BEGIN:VEVENT
DTSTART;TZID=America/Los_Angeles:20231111T110000
DTEND;TZID=America/Los_Angeles:20231111T130000
DTSTAMP:20260423T145836
CREATED:20231016T041207Z
LAST-MODIFIED:20231016T060959Z
UID:790-1699700400-1699707600@huilimakokua.com
SUMMARY:Thanksgiving Potluck
DESCRIPTION:
URL:https://huilimakokua.com/calendar/potluck-8/
LOCATION:The Bonaventure\, 10949 Telegraph Road\, Ventura\, CA\, 93004\, United States
END:VEVENT
BEGIN:VEVENT
DTSTART;TZID=UTC:20231014T110000
DTEND;TZID=UTC:20231014T130000
DTSTAMP:20260423T145836
CREATED:20230917T223004Z
LAST-MODIFIED:20230917T223018Z
UID:785-1697281200-1697288400@huilimakokua.com
SUMMARY:Potluck
DESCRIPTION:
URL:https://huilimakokua.com/calendar/potluck-7/
END:VEVENT
BEGIN:VEVENT
DTSTART;TZID=UTC:20230909T110000
DTEND;TZID=UTC:20230909T130000
DTSTAMP:20260423T145836
CREATED:20230905T024304Z
LAST-MODIFIED:20230905T024407Z
UID:781-1694257200-1694264400@huilimakokua.com
SUMMARY:Potluck
DESCRIPTION:
URL:https://huilimakokua.com/calendar/potluck-6/
LOCATION:The Bonaventure\, 10949 Telegraph Road\, Ventura\, CA\, 93004\, United States
END:VEVENT
BEGIN:VEVENT
DTSTART;TZID=UTC:20230909T110000
DTEND;TZID=UTC:20230909T130000
DTSTAMP:20260423T145836
CREATED:20230815T071204Z
LAST-MODIFIED:20230816T000230Z
UID:772-1694257200-1694264400@huilimakokua.com
SUMMARY:Potluck
DESCRIPTION:
URL:https://huilimakokua.com/calendar/potluck-5/
LOCATION:The Bonaventure\, 10949 Telegraph Road\, Ventura\, CA\, 93004\, United States
END:VEVENT
BEGIN:VEVENT
DTSTART;TZID=UTC:20230812T110000
DTEND;TZID=UTC:20230812T130000
DTSTAMP:20260423T145836
CREATED:20230717T052535Z
LAST-MODIFIED:20230717T052656Z
UID:766-1691838000-1691845200@huilimakokua.com
SUMMARY:Potluck
DESCRIPTION:
URL:https://huilimakokua.com/calendar/potluck-4/
LOCATION:The Bonaventure\, 10949 Telegraph Road\, Ventura\, CA\, 93004\, United States
END:VEVENT
BEGIN:VEVENT
DTSTART;TZID=UTC:20230708T110000
DTEND;TZID=UTC:20230708T130000
DTSTAMP:20260423T145836
CREATED:20230625T055851Z
LAST-MODIFIED:20230625T055851Z
UID:763-1688814000-1688821200@huilimakokua.com
SUMMARY:Potluck
DESCRIPTION:
URL:https://huilimakokua.com/calendar/potluck-3/
LOCATION:The Bonaventure\, 10949 Telegraph Road\, Ventura\, CA\, 93004\, United States
END:VEVENT
BEGIN:VEVENT
DTSTART;TZID=UTC:20230610T110000
DTEND;TZID=UTC:20230610T130000
DTSTAMP:20260423T145836
CREATED:20230527T020628Z
LAST-MODIFIED:20230527T020645Z
UID:758-1686394800-1686402000@huilimakokua.com
SUMMARY:Potluck & Kanikapila
DESCRIPTION:
URL:https://huilimakokua.com/calendar/potluck-kanikapila/
LOCATION:The Bonaventure\, 10949 Telegraph Road\, Ventura\, CA\, 93004\, United States
END:VEVENT
BEGIN:VEVENT
DTSTART;TZID=UTC:20230513T120000
DTEND;TZID=UTC:20230513T130000
DTSTAMP:20260423T145836
CREATED:20230504T133728Z
LAST-MODIFIED:20230504T133728Z
UID:752-1683979200-1683982800@huilimakokua.com
SUMMARY:Potluck
DESCRIPTION:
URL:https://huilimakokua.com/calendar/potluck-2/
LOCATION:The Bonaventure\, 10949 Telegraph Road\, Ventura\, CA\, 93004\, United States
END:VEVENT
BEGIN:VEVENT
DTSTART;TZID=UTC:20230408T110000
DTEND;TZID=UTC:20230408T130000
DTSTAMP:20260423T145836
CREATED:20230402T005029Z
LAST-MODIFIED:20230402T005130Z
UID:746-1680951600-1680958800@huilimakokua.com
SUMMARY:Potluck Meeting
DESCRIPTION:
URL:https://huilimakokua.com/calendar/potluck-meeting-2/
LOCATION:The Bonaventure\, 10949 Telegraph Road\, Ventura\, CA\, 93004\, United States
END:VEVENT
BEGIN:VEVENT
DTSTART;TZID=UTC:20230311T110000
DTEND;TZID=UTC:20230311T130000
DTSTAMP:20260423T145836
CREATED:20230303T071257Z
LAST-MODIFIED:20230303T071257Z
UID:742-1678532400-1678539600@huilimakokua.com
SUMMARY:Potluck
DESCRIPTION:
URL:https://huilimakokua.com/calendar/potluck/
LOCATION:The Bonaventure\, 10949 Telegraph Road\, Ventura\, CA\, 93004\, United States
END:VEVENT
BEGIN:VEVENT
DTSTART;TZID=UTC:20230211T110000
DTEND;TZID=UTC:20230211T130000
DTSTAMP:20260423T145836
CREATED:20230202T145925Z
LAST-MODIFIED:20230202T145925Z
UID:738-1676113200-1676120400@huilimakokua.com
SUMMARY:Elections
DESCRIPTION:
URL:https://huilimakokua.com/calendar/elections/
LOCATION:The Bonaventure\, 10949 Telegraph Road\, Ventura\, CA\, 93004\, United States
END:VEVENT
BEGIN:VEVENT
DTSTART;TZID=UTC:20230211T110000
DTEND;TZID=UTC:20230211T130000
DTSTAMP:20260423T145836
CREATED:20230106T030953Z
LAST-MODIFIED:20230106T030953Z
UID:734-1676113200-1676120400@huilimakokua.com
SUMMARY:Election of Officers
DESCRIPTION:
URL:https://huilimakokua.com/calendar/election-of-officers-2/
LOCATION:The Bonaventure\, 10949 Telegraph Road\, Ventura\, CA\, 93004\, United States
END:VEVENT
BEGIN:VEVENT
DTSTART;TZID=UTC:20230114T110000
DTEND;TZID=UTC:20230114T130000
DTSTAMP:20260423T145836
CREATED:20230106T012511Z
LAST-MODIFIED:20230106T012511Z
UID:732-1673694000-1673701200@huilimakokua.com
SUMMARY:Potluck Meeting
DESCRIPTION:
URL:https://huilimakokua.com/calendar/potluck-meeting/
LOCATION:The Bonaventure\, 10949 Telegraph Road\, Ventura\, CA\, 93004\, United States
END:VEVENT
BEGIN:VEVENT
DTSTART;TZID=UTC:20221210T110000
DTEND;TZID=UTC:20221210T130000
DTSTAMP:20260423T145836
CREATED:20221202T035419Z
LAST-MODIFIED:20221202T035419Z
UID:724-1670670000-1670677200@huilimakokua.com
SUMMARY:Christmas Potluck
DESCRIPTION:
URL:https://huilimakokua.com/calendar/christmas-potluck-2/
LOCATION:The Bonaventure\, 10949 Telegraph Road\, Ventura\, CA\, 93004\, United States
END:VEVENT
BEGIN:VEVENT
DTSTART;TZID=UTC:20221112T110000
DTEND;TZID=UTC:20221112T130000
DTSTAMP:20260423T145836
CREATED:20221115T100824Z
LAST-MODIFIED:20221115T100824Z
UID:718-1668250800-1668258000@huilimakokua.com
SUMMARY:Turkey Potluck
DESCRIPTION:
URL:https://huilimakokua.com/calendar/turkey-potluck/
END:VEVENT
BEGIN:VEVENT
DTSTART;TZID=UTC:20221008T110000
DTEND;TZID=UTC:20221008T130000
DTSTAMP:20260423T145836
CREATED:20220902T032728Z
LAST-MODIFIED:20220919T104052Z
UID:709-1665226800-1665234000@huilimakokua.com
SUMMARY:Q & Q Lunch\, Club buys
DESCRIPTION:
URL:https://huilimakokua.com/calendar/tentative-potluck-4/
END:VEVENT
BEGIN:VEVENT
DTSTART;TZID=UTC:20220813T120000
DTEND;TZID=UTC:20220813T140000
DTSTAMP:20260423T145836
CREATED:20220705T121118Z
LAST-MODIFIED:20220729T094403Z
UID:701-1660392000-1660399200@huilimakokua.com
SUMMARY:Picnic Canceled
DESCRIPTION:Po’aono\, Aukake Ka Umikumamako’lu (Saturday\, August 13th) will beour next meeting at Camino Real Park in Ventura for a picnic from 12 –2 PM. It will be a potluck with president Darrin Ching making tri-tipand volunteer Aloha Chairperson Leandra Castroni providing the rice.Besides bringing a dish to share\, please bring a friend or two who maybe interested in joining the Hawaii Club. They don’t need to be fromHawaii\, just interested in things Hawaiian – the people\, music\, dance\,food\, language.
URL:https://huilimakokua.com/calendar/potluck-picnic-2/
LOCATION:Camino Real Park\, 4298 Dean Drive\, Ventura\, CA\, 93003\, United States
END:VEVENT
BEGIN:VEVENT
DTSTART;TZID=UTC:20220611T113000
DTEND;TZID=UTC:20220611T140000
DTSTAMP:20260423T145836
CREATED:20220530T101208Z
LAST-MODIFIED:20220530T101625Z
UID:693-1654947000-1654956000@huilimakokua.com
SUMMARY:Hui Luncheon
DESCRIPTION:
URL:https://huilimakokua.com/calendar/hui-meeting/
LOCATION:Hunan Garden Chinese Restaurant 1621 N. Oxnard Blvd Oxnard 93030\, 1621 N Oxnard Blvd\, Oxnard\, CA\, 93030
END:VEVENT
BEGIN:VEVENT
DTSTART;TZID=UTC:20220108T080000
DTEND;TZID=UTC:20220108T170000
DTSTAMP:20260423T145836
CREATED:20220109T040019Z
LAST-MODIFIED:20220109T040019Z
UID:676-1641628800-1641661200@huilimakokua.com
SUMMARY:Huilima2021-12.pdf
DESCRIPTION:
URL:https://huilimakokua.com/calendar/huilima2021-12-pdf/
END:VEVENT
BEGIN:VEVENT
DTSTART;TZID=UTC:20220106T080000
DTEND;TZID=UTC:20220106T170000
DTSTAMP:20260423T145836
CREATED:20220106T151100Z
LAST-MODIFIED:20220106T151216Z
UID:672-1641456000-1641488400@huilimakokua.com
SUMMARY:HuiLima2022-01
DESCRIPTION:
URL:https://huilimakokua.com/calendar/huilima2022-01/
END:VEVENT
BEGIN:VEVENT
DTSTART;TZID=UTC:20201010T130000
DTEND;TZID=UTC:20201010T163000
DTSTAMP:20260423T145836
CREATED:20200929T133247Z
LAST-MODIFIED:20200929T133247Z
UID:634-1602334800-1602347400@huilimakokua.com
SUMMARY:Pot Luck Cancelled
DESCRIPTION:
URL:https://huilimakokua.com/calendar/pot-luck-cancelled/
END:VEVENT
BEGIN:VEVENT
DTSTART;TZID=UTC:20200808T130000
DTEND;TZID=UTC:20200808T153000
DTSTAMP:20260423T145836
CREATED:20200720T023408Z
LAST-MODIFIED:20200720T023458Z
UID:627-1596891600-1596900600@huilimakokua.com
SUMMARY:Potluck Cancelled
DESCRIPTION:
URL:https://huilimakokua.com/calendar/potluck-cancelled-3/
END:VEVENT
BEGIN:VEVENT
DTSTART;TZID=UTC:20200711T130000
DTEND;TZID=UTC:20200711T153000
DTSTAMP:20260423T145836
CREATED:20200711T080045Z
LAST-MODIFIED:20200515T011212Z
UID:613-1594472400-1594481400@huilimakokua.com
SUMMARY:TBD
DESCRIPTION:
URL:https://huilimakokua.com/calendar/tbd/
LOCATION:TBD
END:VEVENT
END:VCALENDAR