BEGIN:VCALENDAR
VERSION:2.0
PRODID:-//Hui Lima Kokua - ECPv6.15.13.1//NONSGML v1.0//EN
CALSCALE:GREGORIAN
METHOD:PUBLISH
X-WR-CALNAME:Hui Lima Kokua
X-ORIGINAL-URL:https://huilimakokua.com
X-WR-CALDESC:Events for Hui Lima Kokua
REFRESH-INTERVAL;VALUE=DURATION:PT1H
X-Robots-Tag:noindex
X-PUBLISHED-TTL:PT1H
BEGIN:VTIMEZONE
TZID:America/Los_Angeles
BEGIN:DAYLIGHT
TZOFFSETFROM:-0800
TZOFFSETTO:-0700
TZNAME:PDT
DTSTART:20240310T100000
END:DAYLIGHT
BEGIN:STANDARD
TZOFFSETFROM:-0700
TZOFFSETTO:-0800
TZNAME:PST
DTSTART:20241103T090000
END:STANDARD
BEGIN:DAYLIGHT
TZOFFSETFROM:-0800
TZOFFSETTO:-0700
TZNAME:PDT
DTSTART:20250309T100000
END:DAYLIGHT
BEGIN:STANDARD
TZOFFSETFROM:-0700
TZOFFSETTO:-0800
TZNAME:PST
DTSTART:20251102T090000
END:STANDARD
BEGIN:DAYLIGHT
TZOFFSETFROM:-0800
TZOFFSETTO:-0700
TZNAME:PDT
DTSTART:20260308T100000
END:DAYLIGHT
BEGIN:STANDARD
TZOFFSETFROM:-0700
TZOFFSETTO:-0800
TZNAME:PST
DTSTART:20261101T090000
END:STANDARD
BEGIN:DAYLIGHT
TZOFFSETFROM:-0800
TZOFFSETTO:-0700
TZNAME:PDT
DTSTART:20270314T100000
END:DAYLIGHT
BEGIN:STANDARD
TZOFFSETFROM:-0700
TZOFFSETTO:-0800
TZNAME:PST
DTSTART:20271107T090000
END:STANDARD
END:VTIMEZONE
BEGIN:VEVENT
DTSTART;TZID=America/Los_Angeles:20251213T110000
DTEND;TZID=America/Los_Angeles:20251213T130000
DTSTAMP:20260423T161215
CREATED:20251204T170722Z
LAST-MODIFIED:20251204T170722Z
UID:939-1765623600-1765630800@huilimakokua.com
SUMMARY:Potluck & Kanikapila
DESCRIPTION:Potluck & Kanikapila
URL:https://huilimakokua.com/calendar/potluck-kanikapila-3/
LOCATION:Orchard\, 10949 Telegraph Rd\, Ventura\, CA\, 93004\, United States
END:VEVENT
BEGIN:VEVENT
DTSTART;TZID=America/Los_Angeles:20260110T110000
DTEND;TZID=America/Los_Angeles:20260110T130000
DTSTAMP:20260423T161215
CREATED:20260101T192115Z
LAST-MODIFIED:20260101T192115Z
UID:943-1768042800-1768050000@huilimakokua.com
SUMMARY:Potluck; "Getting to Know You"
DESCRIPTION:
URL:https://huilimakokua.com/calendar/potluck-getting-to-know-you/
LOCATION:Orchard\, 10949 Telegraph Rd\, Ventura\, CA\, 93004\, United States
END:VEVENT
BEGIN:VEVENT
DTSTART;TZID=America/Los_Angeles:20260214T110000
DTEND;TZID=America/Los_Angeles:20260214T130000
DTSTAMP:20260423T161215
CREATED:20260211T220541Z
LAST-MODIFIED:20260211T220541Z
UID:952-1771066800-1771074000@huilimakokua.com
SUMMARY:Potluck and Program
DESCRIPTION:
URL:https://huilimakokua.com/calendar/potluck-and-program/
LOCATION:Orchard\, 10949 Telegraph Rd\, Ventura\, CA\, 93004\, United States
END:VEVENT
BEGIN:VEVENT
DTSTART;TZID=America/Los_Angeles:20260314T110000
DTEND;TZID=America/Los_Angeles:20260314T130000
DTSTAMP:20260423T161215
CREATED:20260308T015635Z
LAST-MODIFIED:20260308T015635Z
UID:955-1773486000-1773493200@huilimakokua.com
SUMMARY:Potluck & Part 1 of 2 on history of Hui Lima Kokua
DESCRIPTION:
URL:https://huilimakokua.com/calendar/potluck-part-1-of-2-on-history-of-hui-lima-kokua/
LOCATION:Orchard\, 10949 Telegraph Rd\, Ventura\, CA\, 93004\, United States
END:VEVENT
BEGIN:VEVENT
DTSTART;TZID=America/Los_Angeles:20260411T110000
DTEND;TZID=America/Los_Angeles:20260411T130000
DTSTAMP:20260423T161215
CREATED:20260401T052319Z
LAST-MODIFIED:20260401T052319Z
UID:958-1775905200-1775912400@huilimakokua.com
SUMMARY:Potluck and Part 1 of 2 of History of Hui Lima Kokua
DESCRIPTION:
URL:https://huilimakokua.com/calendar/potluck-and-part-1-of-2-of-history-of-hui-lima-kokua/
LOCATION:Orchard\, 10949 Telegraph Rd\, Ventura\, CA\, 93004\, United States
END:VEVENT
END:VCALENDAR